BEGIN:VCALENDAR
VERSION:2.0
PRODID:-//Lauftreff Güstrow - ECPv6.15.20//NONSGML v1.0//EN
CALSCALE:GREGORIAN
METHOD:PUBLISH
X-ORIGINAL-URL:https://lauftreff-guestrow.de
X-WR-CALDESC:Veranstaltungen für Lauftreff Güstrow
REFRESH-INTERVAL;VALUE=DURATION:PT1H
X-Robots-Tag:noindex
X-PUBLISHED-TTL:PT1H
BEGIN:VTIMEZONE
TZID:Europe/Berlin
BEGIN:DAYLIGHT
TZOFFSETFROM:+0100
TZOFFSETTO:+0200
TZNAME:CEST
DTSTART:20250330T010000
END:DAYLIGHT
BEGIN:STANDARD
TZOFFSETFROM:+0200
TZOFFSETTO:+0100
TZNAME:CET
DTSTART:20251026T010000
END:STANDARD
BEGIN:DAYLIGHT
TZOFFSETFROM:+0100
TZOFFSETTO:+0200
TZNAME:CEST
DTSTART:20260329T010000
END:DAYLIGHT
BEGIN:STANDARD
TZOFFSETFROM:+0200
TZOFFSETTO:+0100
TZNAME:CET
DTSTART:20261025T010000
END:STANDARD
BEGIN:DAYLIGHT
TZOFFSETFROM:+0100
TZOFFSETTO:+0200
TZNAME:CEST
DTSTART:20270328T010000
END:DAYLIGHT
BEGIN:STANDARD
TZOFFSETFROM:+0200
TZOFFSETTO:+0100
TZNAME:CET
DTSTART:20271031T010000
END:STANDARD
END:VTIMEZONE
BEGIN:VEVENT
DTSTART;TZID=Europe/Berlin:20260501T100000
DTEND;TZID=Europe/Berlin:20260501T120000
DTSTAMP:20260422T124612
CREATED:20260227T081719Z
LAST-MODIFIED:20260227T081719Z
UID:2068-1777629600-1777636800@lauftreff-guestrow.de
SUMMARY:85. Heidberglauf
DESCRIPTION:
URL:https://lauftreff-guestrow.de/event/85-heidberglauf
LOCATION:Schule Mühl Rosin\, Waldsiedlung 8\, Mühl Rosin\, 18276\, Deutschland
CATEGORIES:Laufen
END:VEVENT
BEGIN:VEVENT
DTSTART;TZID=Europe/Berlin:20260505T180000
DTEND;TZID=Europe/Berlin:20260505T190000
DTSTAMP:20260422T124612
CREATED:20260422T071656Z
LAST-MODIFIED:20260422T071656Z
UID:2116-1778004000-1778007600@lauftreff-guestrow.de
SUMMARY:Lauftreff #232
DESCRIPTION:
URL:https://lauftreff-guestrow.de/event/lauftreff-232
LOCATION:Borwinbrunnen\, Pferdemarkt\, Güstrow\, Deutschland
CATEGORIES:Lauftreff
END:VEVENT
BEGIN:VEVENT
DTSTART;TZID=Europe/Berlin:20260512T180000
DTEND;TZID=Europe/Berlin:20260512T190000
DTSTAMP:20260422T124612
CREATED:20260422T071853Z
LAST-MODIFIED:20260422T071853Z
UID:2118-1778608800-1778612400@lauftreff-guestrow.de
SUMMARY:Lauftreff #233
DESCRIPTION:
URL:https://lauftreff-guestrow.de/event/lauftreff-233
LOCATION:Borwinbrunnen\, Pferdemarkt\, Güstrow\, Deutschland
CATEGORIES:Lauftreff
END:VEVENT
BEGIN:VEVENT
DTSTART;TZID=Europe/Berlin:20260519T180000
DTEND;TZID=Europe/Berlin:20260519T190000
DTSTAMP:20260422T124612
CREATED:20260422T071930Z
LAST-MODIFIED:20260422T071930Z
UID:2120-1779213600-1779217200@lauftreff-guestrow.de
SUMMARY:Lauftreff #234
DESCRIPTION:
URL:https://lauftreff-guestrow.de/event/lauftreff-234
LOCATION:Borwinbrunnen\, Pferdemarkt\, Güstrow\, Deutschland
CATEGORIES:Lauftreff
END:VEVENT
BEGIN:VEVENT
DTSTART;TZID=Europe/Berlin:20260526T180000
DTEND;TZID=Europe/Berlin:20260526T190000
DTSTAMP:20260422T124612
CREATED:20260422T072045Z
LAST-MODIFIED:20260422T072045Z
UID:2122-1779818400-1779822000@lauftreff-guestrow.de
SUMMARY:Lauftreff #235
DESCRIPTION:
URL:https://lauftreff-guestrow.de/event/lauftreff-235
LOCATION:Borwinbrunnen\, Pferdemarkt\, Güstrow\, Deutschland
CATEGORIES:Lauftreff
END:VEVENT
END:VCALENDAR